BEGIN:VCALENDAR
VERSION:2.0
PRODID:-//ChamberMaster//Event Calendar 2.0//EN
METHOD:PUBLISH
X-PUBLISHED-TTL:P3D
REFRESH-INTERVAL:P3D
CALSCALE:GREGORIAN
BEGIN:VEVENT
DTSTART:20250925T140000Z
DTEND:20250925T153000Z
X-MICROSOFT-CDO-ALLDAYEVENT:FALSE
SUMMARY:LLCs for Real Estate Investments in FL: Structuring for Success and Protection
DESCRIPTION:This webinar\, with small business attorney Laurie Lee\, will cover the benefits and risks of using LLCs to hold real estate properties in Florida\, including liability protection\, tax advantages\, and how to structure the LLC for multiple investors or co-owners.
X-ALT-DESC;FMTTYPE=text/html:This webinar\, with small business attorney Laurie Lee\, will cover the benefits and risks of using LLCs to hold real estate properties in Florida\, including liability protection\, tax advantages\, and how to structure the LLC for multiple investors or co-owners.
LOCATION:Online Event
UID:e.3485.19559
SEQUENCE:3
DTSTAMP:20260422T091707Z
URL:https://www.mountdora.com/events/details/llcs-for-real-estate-investments-in-fl-structuring-for-success-and-protection-19559
END:VEVENT

END:VCALENDAR
