BEGIN:VCALENDAR
VERSION:2.0
PRODID:-//ChamberMaster//Event Calendar 2.0//EN
METHOD:PUBLISH
X-PUBLISHED-TTL:P3D
REFRESH-INTERVAL:P3D
CALSCALE:GREGORIAN
BEGIN:VEVENT
DTSTART:20250227T223000Z
DTEND:20250227T233000Z
X-MICROSOFT-CDO-ALLDAYEVENT:FALSE
SUMMARY:Living a longer\, healthier life
DESCRIPTION:Be our guest for a presentation on how to live a longer\, healthier life. This free event is hosted by Karen Marshall\, Certified Health Coach. Guest speakers will be Judi Jones and Laurel Bowlus\, who will speak how their lives have been transformed. All are welcome.
X-ALT-DESC;FMTTYPE=text/html:Be our guest for a presentation on how to live a longer\, healthier life. This free event is hosted by Karen Marshall\, Certified Health Coach. Guest speakers will be Judi Jones and Laurel Bowlus\, who will speak how their lives have been transformed. All are welcome.
LOCATION:Congregational Church of Mount Dora\, 650 North Donnelly Street Mount Dora Florida.
UID:e.3485.14597
SEQUENCE:3
DTSTAMP:20260422T223147Z
URL:https://www.mountdora.com/events/details/living-a-longer-healthier-life-14597
END:VEVENT

END:VCALENDAR
