BEGIN:VCALENDAR
VERSION:2.0
PRODID:-//ChamberMaster//Event Calendar 2.0//EN
METHOD:PUBLISH
X-PUBLISHED-TTL:P3D
REFRESH-INTERVAL:P3D
CALSCALE:GREGORIAN
BEGIN:VEVENT
DTSTART:20250812T140000Z
DTEND:20250812T153000Z
X-MICROSOFT-CDO-ALLDAYEVENT:FALSE
SUMMARY:LinkedIn Prospecting: How to Get the Meeting with Your Ideal Client
DESCRIPTION:Dive deep into LinkedIn prospecting techniques that actually work. This session will show you how to stand out\, create connections\, and secure meetings with the decision-makers who matter most for your business success.
X-ALT-DESC;FMTTYPE=text/html:Dive deep into LinkedIn prospecting techniques that actually work. This session will show you how to stand out\, create connections\, and secure meetings with the decision-makers who matter most for your business success.<br />\n<br />\n&nbsp\;
LOCATION:Online Event
UID:e.3485.19440
SEQUENCE:3
DTSTAMP:20260422T110009Z
URL:https://www.mountdora.com/events/details/linkedin-prospecting-how-to-get-the-meeting-with-your-ideal-client-08-12-2025-19440
END:VEVENT

END:VCALENDAR
