BEGIN:VCALENDAR
VERSION:2.0
PRODID:-//ChamberMaster//Event Calendar 2.0//EN
METHOD:PUBLISH
X-PUBLISHED-TTL:P3D
REFRESH-INTERVAL:P3D
CALSCALE:GREGORIAN
BEGIN:VEVENT
DTSTART:20260317T160000Z
DTEND:20260317T173000Z
X-MICROSOFT-CDO-ALLDAYEVENT:FALSE
SUMMARY:LinkedIn Prospecting: How to Get the Meeting with Your Ideal Client
DESCRIPTION:Dive deep into LinkedIn prospecting techniques that actually work. This session will show you how to stand out\, create connections\, and secure meetings with the decision-makers who matter most for your business success.
X-ALT-DESC;FMTTYPE=text/html:Dive deep into LinkedIn prospecting techniques that actually work. This session will show you how to stand out\, create connections\, and secure meetings with the decision-makers who matter most for your business success.
LOCATION:Online Event
UID:e.3485.19956
SEQUENCE:3
DTSTAMP:20260421T212137Z
URL:https://www.mountdora.com/events/details/linkedin-prospecting-how-to-get-the-meeting-with-your-ideal-client-03-17-2026-19956
END:VEVENT

END:VCALENDAR
