BEGIN:VCALENDAR
VERSION:2.0
PRODID:-//ChamberMaster//Event Calendar 2.0//EN
METHOD:PUBLISH
X-PUBLISHED-TTL:P3D
REFRESH-INTERVAL:P3D
CALSCALE:GREGORIAN
BEGIN:VEVENT
DTSTART:20260314T140000Z
DTEND:20260314T180000Z
X-MICROSOFT-CDO-ALLDAYEVENT:FALSE
SUMMARY:Lil’ Bit of Life Farm Shamrock Stroll – Open Farm Event
DESCRIPTION:Event Description\n\nCelebrate St. Patrick's Day with Lil' Bit of Life Farm during the Third Annual Shamrock Stroll Open Farm Event. Families can enjoy guided farm tours\, a leprechaun scavenger hunt with prize surprises\, animal meet-and-greets\, festive photo opportunities\, and St. Patrick's Day d cor throughout the farm. Each child receives a leprechaun trap kit to take home\, and guests 21+ can enjoy complimentary green beer. Additional activities such as pony rides\, barrel train adventures\, and festive treats are available for purchase.\n\n\n\nPurchase tickets in advance: https://pci.jotform.com/form/260421122694046
X-ALT-DESC;FMTTYPE=text/html:<span style="font-size:14px\;"><strong data-end="461" data-start="440">Event Description</strong><br data-end="464" data-start="461" />\nCelebrate St. Patrick&rsquo\;s Day with Lil&rsquo\; Bit of Life Farm during the Third Annual Shamrock Stroll Open Farm Event. Families can enjoy guided farm tours\, a leprechaun scavenger hunt with prize surprises\, animal meet-and-greets\, festive photo opportunities\, and St. Patrick&rsquo\;s Day d&eacute\;cor throughout the farm. Each child receives a leprechaun trap kit to take home\, and guests 21+ can enjoy complimentary green beer. Additional activities such as pony rides\, barrel train adventures\, and festive treats are available for purchase.<br />\n<br />\nPurchase tickets in advance: <a class="decorated-link" data-end="1075" data-start="1031" href="https://pci.jotform.com/form/260421122694046" rel="noopener" target="_new">https://pci.jotform.com/form/260421122694046</a></span>
LOCATION:Location Lil' Bit of Life Farm 2920 Robie Avenue Mount Dora\, FL
UID:e.3485.21826
SEQUENCE:3
DTSTAMP:20260422T014734Z
URL:https://www.mountdora.com/events/details/lil-bit-of-life-farm-shamrock-stroll-open-farm-event-21826
END:VEVENT

END:VCALENDAR
