BEGIN:VCALENDAR
VERSION:2.0
PRODID:-//ChamberMaster//Event Calendar 2.0//EN
METHOD:PUBLISH
X-PUBLISHED-TTL:P3D
REFRESH-INTERVAL:P3D
CALSCALE:GREGORIAN
BEGIN:VEVENT
DTSTART:20211013T170000Z
DTEND:20211013T180000Z
X-MICROSOFT-CDO-ALLDAYEVENT:FALSE
SUMMARY:Learn the Basics of Google Ads
DESCRIPTION:Learn how to reach more customers and grow your business with Google Ads. You will learn how to create an account and set up an ad campaign\, how to improve ad performance\, and how to measure success.
X-ALT-DESC;FMTTYPE=text/html:Learn how to&nbsp\;reach more customers and grow your business with Google Ads. You will learn how to create an account and set up an ad campaign\, how to improve ad performance\, and how to measure success.
LOCATION:This is an online event.
UID:e.3485.3785
SEQUENCE:3
DTSTAMP:20260420T162648Z
URL:https://www.mountdora.com/events/details/learn-the-basics-of-google-ads-3785
END:VEVENT

END:VCALENDAR
