BEGIN:VCALENDAR
VERSION:2.0
PRODID:-//ChamberMaster//Event Calendar 2.0//EN
METHOD:PUBLISH
X-PUBLISHED-TTL:P3D
REFRESH-INTERVAL:P3D
CALSCALE:GREGORIAN
BEGIN:VEVENT
DTSTART:20241210T000000Z
DTEND:20241210T010000Z
X-MICROSOFT-CDO-ALLDAYEVENT:FALSE
SUMMARY:Leadership: Grow Yourself - Build Your Team
DESCRIPTION:Business success demands leadership. What is your leadership strategy? This webinar will explore a strategy that benefits you\, your staff\, your customers\, and your suppliers. Learn from real-world examples how your business can be more successful. We will explore:\n\n\n\n1.Stop Searching For Safe... it doesn't exist!\n\n\n\n2.How People Are REALLY Wired... it drives what we do!\n\n\n\n3.Focus & Communication... even more when things are tough!\n\n\n\n4.Be Gumby  . flexible\, like that green little cartoon character\n\n\n\n5.Your Most Important Role?... More trust\, More Insight\, More Action!
X-ALT-DESC;FMTTYPE=text/html:Business success demands leadership.&nbsp\;What is your leadership strategy?&nbsp\;This webinar will explore a strategy that benefits you\, your staff\, your customers\, and your suppliers. Learn from&nbsp\;real-world examples&nbsp\;how your business can be more successful. We will explore:<br />\n<br />\n1.Stop Searching For Safe... it doesn&#39\;t exist!<br />\n<br />\n2.How People Are REALLY Wired... it drives what we do!<br />\n<br />\n3.Focus &amp\; Communication... even more when things are tough!<br />\n<br />\n4.Be Gumby&hellip\;&hellip\;. flexible\, like that green little cartoon character<br />\n<br />\n5.Your Most Important Role?... More trust\, More Insight\, More Action!
LOCATION:Online Event
UID:e.3485.13194
SEQUENCE:3
DTSTAMP:20260422T223230Z
URL:https://www.mountdora.com/events/details/leadership-grow-yourself-build-your-team-12-09-2024-13194
END:VEVENT

END:VCALENDAR
