BEGIN:VCALENDAR
VERSION:2.0
PRODID:-//ChamberMaster//Event Calendar 2.0//EN
METHOD:PUBLISH
X-PUBLISHED-TTL:P3D
REFRESH-INTERVAL:P3D
CALSCALE:GREGORIAN
BEGIN:VEVENT
DTSTART:20250717T220000Z
DTEND:20250717T233000Z
X-MICROSOFT-CDO-ALLDAYEVENT:FALSE
SUMMARY:Las 5 razones principales por las que los bancos rechazan solicitudes de préstam
DESCRIPTION:Los bancos deniegan m s del 80% de las solicitudes de financiaci n de peque as empresas y casi el 90% de las solicitudes de emprendimientos.  Pero por qu ? Venga a conocer las cinco razones principales por las que su solicitud de pr stamo para peque as empresas fue (o ser ) rechazada y\, lo que es m s importante\, c mo prepararse a s  mismo y a su peque a empresa (incluidas las emprendimentos) para obtener financiamiento.  nase al corredor de pr stamos comerciales Boyd Karren\, de Otro Financial\, para esta mirada informativa a lo que los bancos y prestamistas alternativos buscan al considerar su solicitud\, y las opciones que a n pueden estar disponibles para usted\, incluso si su solicitud de pr stamo ya ha sido rechazada por un banco.
X-ALT-DESC;FMTTYPE=text/html:Los bancos deniegan m&aacute\;s del 80% de las solicitudes de financiaci&oacute\;n de peque&ntilde\;as empresas y casi el 90% de las solicitudes de emprendimientos. &iquest\;Pero por qu&eacute\;? Venga a conocer las cinco razones principales por las que su solicitud de pr&eacute\;stamo para peque&ntilde\;as empresas fue (o ser&aacute\;) rechazada y\, lo que es m&aacute\;s importante\, c&oacute\;mo prepararse a s&iacute\; mismo y a su peque&ntilde\;a empresa (incluidas las emprendimentos) para obtener financiamiento. &Uacute\;nase al corredor de pr&eacute\;stamos comerciales Boyd Karren\, de Otro Financial\, para esta mirada informativa a lo que los bancos y prestamistas alternativos buscan al considerar su solicitud\, y las opciones que a&uacute\;n pueden estar disponibles para usted\, incluso si su solicitud de pr&eacute\;stamo ya ha sido rechazada por un banco.
LOCATION:LIVE EVENT (ONLINE)
UID:e.3485.18373
SEQUENCE:3
DTSTAMP:20260422T120856Z
URL:https://www.mountdora.com/events/details/las-5-razones-principales-por-las-que-los-bancos-rechazan-solicitudes-de-pr&#233;stam-18373
END:VEVENT

END:VCALENDAR
