BEGIN:VCALENDAR
VERSION:2.0
PRODID:-//ChamberMaster//Event Calendar 2.0//EN
METHOD:PUBLISH
X-PUBLISHED-TTL:P3D
REFRESH-INTERVAL:P3D
CALSCALE:GREGORIAN
BEGIN:VEVENT
DTSTART:20250822T180000Z
DTEND:20250822T210000Z
X-MICROSOFT-CDO-ALLDAYEVENT:FALSE
SUMMARY:Lakes of Mount Dora Summer Block Party
DESCRIPTION:Lakes of Mount Dora Summer Block Party hosted by D.R. Horton.\n\nIntroduce your friends and family to your community. Meet your new and current neighbors. Snacks and refreshments will be available.
X-ALT-DESC;FMTTYPE=text/html:Lakes of Mount Dora Summer Block Party hosted by D.R. Horton.<br />\nIntroduce your friends and family to your community. Meet your new and current neighbors. Snacks and refreshments will be available.<br />\n<br />\n&nbsp\;
LOCATION:Lakes of Mount Dora 3980 Kennebunk Loop Mount Dora\, FL
UID:e.3485.19589
SEQUENCE:3
DTSTAMP:20260422T150355Z
URL:https://www.mountdora.com/events/details/lakes-of-mount-dora-summer-block-party-19589
END:VEVENT

END:VCALENDAR
