BEGIN:VCALENDAR
VERSION:2.0
PRODID:-//ChamberMaster//Event Calendar 2.0//EN
METHOD:PUBLISH
X-PUBLISHED-TTL:P3D
REFRESH-INTERVAL:P3D
CALSCALE:GREGORIAN
BEGIN:VEVENT
DTSTART:20250116T193000Z
DTEND:20250116T213000Z
X-MICROSOFT-CDO-ALLDAYEVENT:FALSE
SUMMARY:Lake County Community Health Needs Assessment
DESCRIPTION:At this CHNA community town hall\, you will have the opportunity to learn more about the needs of the community that have been identified throughout the CHNA data collection process
X-ALT-DESC;FMTTYPE=text/html:At this CHNA community town hall\, you will have the opportunity to learn more about the needs of the community that have been identified throughout the CHNA data collection process
LOCATION:Rogers Park Building 610 S. 9th Street\, Leesburg
UID:e.3485.13679
SEQUENCE:3
DTSTAMP:20260422T234838Z
URL:https://www.mountdora.com/events/details/lake-county-community-health-needs-assessment-13679
END:VEVENT

END:VCALENDAR
