BEGIN:VCALENDAR
VERSION:2.0
PRODID:-//ChamberMaster//Event Calendar 2.0//EN
METHOD:PUBLISH
X-PUBLISHED-TTL:P3D
REFRESH-INTERVAL:P3D
CALSCALE:GREGORIAN
BEGIN:VEVENT
DTSTART:20251204T223000Z
DTEND:20251205T010000Z
X-MICROSOFT-CDO-ALLDAYEVENT:FALSE
SUMMARY:Jewelry by TFC 2025 Christmas Party
DESCRIPTION:Join us for our Annual Christmas Party at Jewelry by TFC\n\n\n\nCome celebrate stunning jewelry by one-of-a-kind women! Meet Uli from Amsterdam! Shop new TFC designs! Get the exclusive Sorrelli snowflake necklace designed just for TFC.\n\n\n\nTry out Matt's famous Mattini's & Free gift with Purchase
X-ALT-DESC;FMTTYPE=text/html:<strong>Join us for our Annual Christmas Party at Jewelry by TFC</strong><br />\n<br />\nCome celebrate stunning jewelry by one-of-a-kind women! Meet Uli from Amsterdam! Shop new TFC designs! Get the exclusive Sorrelli snowflake necklace designed just for TFC.<br />\n<br />\nTry out Matt&#39\;s famous Mattini&#39\;s &amp\; Free gift with Purchase
LOCATION:
UID:e.3485.19835
SEQUENCE:3
DTSTAMP:20260422T045600Z
URL:https://www.mountdora.com/events/details/jewelry-by-tfc-2025-christmas-party-19835
END:VEVENT

END:VCALENDAR
