BEGIN:VCALENDAR
VERSION:2.0
PRODID:-//ChamberMaster//Event Calendar 2.0//EN
METHOD:PUBLISH
X-PUBLISHED-TTL:P3D
REFRESH-INTERVAL:P3D
CALSCALE:GREGORIAN
BEGIN:VEVENT
DTSTART:20251019T190000Z
DTEND:20251019T210000Z
X-MICROSOFT-CDO-ALLDAYEVENT:FALSE
SUMMARY:Jazz Ambassadors Concert - CANCELLED!
DESCRIPTION:- CANCELLED -\n\nGet ready for an unforgettable evening as Mount Dora proudly welcomes America's premier big band and the military's most traveled musicians! Known around the world for their high-energy performances\, this elite 19-member ensemble brings the sounds of swing\, big band\, and America's jazz heritage to life.
X-ALT-DESC;FMTTYPE=text/html:<strong><span style="color:#FF0000\;">- CANCELLED -</span></strong><br />\nGet ready for an unforgettable evening as Mount Dora proudly welcomes America&rsquo\;s premier big band and the military&rsquo\;s most traveled musicians! Known around the world for their high-energy performances\, this elite 19-member ensemble brings the sounds of swing\, big band\, and America&rsquo\;s jazz heritage to life.
LOCATION:520 N Baker St Mount Dora\, FL
UID:e.3485.19740
SEQUENCE:3
DTSTAMP:20260422T132118Z
URL:https://www.mountdora.com/events/details/jazz-ambassadors-concert-cancelled-19740
END:VEVENT

END:VCALENDAR
