BEGIN:VCALENDAR
VERSION:2.0
PRODID:-//ChamberMaster//Event Calendar 2.0//EN
METHOD:PUBLISH
X-PUBLISHED-TTL:P3D
REFRESH-INTERVAL:P3D
CALSCALE:GREGORIAN
BEGIN:VEVENT
DTSTART:20250701T213000Z
DTEND:20250701T233000Z
X-MICROSOFT-CDO-ALLDAYEVENT:FALSE
SUMMARY:Is Crowdfunding Right for My Business?
DESCRIPTION:Crowdfunding is a new source of business funding as well as a way to get pre-sales of your products. This is a new and fast growing area that allows small businesses and average investors to get involved in an area that was previously open only to very large businesses and wealthy investors. Find out how crowdfunding works and if it is right for you. We will review and compare the five forms of crowdfunding and also compare crowdfunding to traditional methods of financing.\n\n\n\nThe methods discussed will include:\n\n\n\n  Donation-based Crowdfunding\n\n\n\n  Rewards-based (or Affinity) Crowdfunding\n\n\n\n  Debt Crowdfunding\n\n\n\n  Equity Crowdfunding\n\n\n\n  Revenue Sharing Crowdfunding
X-ALT-DESC;FMTTYPE=text/html:Crowdfunding is a new source of business funding as well as a way to get pre-sales of your products. This is a new and fast growing area that allows small businesses and average investors to get involved in an area that was previously open only to very large businesses and wealthy investors. Find out how crowdfunding works and if it is right for you.&nbsp\;We will review and compare the five forms of crowdfunding and also compare crowdfunding to traditional methods of financing.<br />\n<br />\nThe methods discussed will include:<br />\n<br />\n&bull\; Donation-based Crowdfunding<br />\n<br />\n&bull\; Rewards-based (or Affinity) Crowdfunding<br />\n<br />\n&bull\; Debt Crowdfunding<br />\n<br />\n&bull\; Equity Crowdfunding<br />\n<br />\n&bull\; Revenue Sharing Crowdfunding
LOCATION:Live Event (ONLINE)
UID:e.3485.18358
SEQUENCE:3
DTSTAMP:20260422T120649Z
URL:https://www.mountdora.com/events/details/is-crowdfunding-right-for-my-business-07-01-2025-18358
END:VEVENT

END:VCALENDAR
