BEGIN:VCALENDAR
VERSION:2.0
PRODID:-//ChamberMaster//Event Calendar 2.0//EN
METHOD:PUBLISH
X-PUBLISHED-TTL:P3D
REFRESH-INTERVAL:P3D
CALSCALE:GREGORIAN
BEGIN:VEVENT
DTSTART:20240613T000000Z
DTEND:20240613T010000Z
X-MICROSOFT-CDO-ALLDAYEVENT:FALSE
SUMMARY:Introduccion a los Impuestos para negocios
DESCRIPTION:Informacion general para due os de negocios sobre la declaracion de impuestos Corporativas.\n\n\n\nNuestra presentadora: Marilin P rez es mentora de SCORE y due a de un negocio local con 25 a os en el  rea financiera. Actualmente es una preparadora profesional de impuestos personales y corporativos.
X-ALT-DESC;FMTTYPE=text/html:Informacion&nbsp\;general para due&ntilde\;os de negocios sobre la declaracion de&nbsp\;impuestos Corporativas.<br />\n<br />\nNuestra presentadora: Marilin P&eacute\;rez&nbsp\;es mentora de SCORE y due&ntilde\;a de un negocio local con 25 a&ntilde\;os en el &aacute\;rea financiera. Actualmente es una preparadora profesional de impuestos personales y corporativos.
LOCATION:Online
UID:e.3485.10143
SEQUENCE:3
DTSTAMP:20260423T070807Z
URL:https://www.mountdora.com/events/details/introduccion-a-los-impuestos-para-negocios-10143
END:VEVENT

END:VCALENDAR
