BEGIN:VCALENDAR
VERSION:2.0
PRODID:-//ChamberMaster//Event Calendar 2.0//EN
METHOD:PUBLISH
X-PUBLISHED-TTL:P3D
REFRESH-INTERVAL:P3D
CALSCALE:GREGORIAN
BEGIN:VEVENT
DTSTART:20250724T160000Z
DTEND:20250724T170000Z
X-MICROSOFT-CDO-ALLDAYEVENT:FALSE
SUMMARY:Interviewing for Retention
DESCRIPTION:The Art and Science of Behavioral Interviewing. This training teaches those charged with interviewing candidates for hire how to interview effectively using behavioral interview techniques. The premise is an employee's previous behaviors are indicative of future behaviors. This training pulls out those areas normally hidden during an interview.
X-ALT-DESC;FMTTYPE=text/html:The Art and Science of Behavioral Interviewing. This training teaches those charged with interviewing candidates for hire how to interview effectively using behavioral interview techniques. The premise is an employee&rsquo\;s previous behaviors are indicative of future behaviors. This training pulls out those areas normally hidden during an interview.
LOCATION:LIVE EVENT (ONLINE)
UID:e.3485.18382
SEQUENCE:3
DTSTAMP:20260422T115922Z
URL:https://www.mountdora.com/events/details/interviewing-for-retention-07-24-2025-18382
END:VEVENT

END:VCALENDAR
