BEGIN:VCALENDAR
VERSION:2.0
PRODID:-//ChamberMaster//Event Calendar 2.0//EN
METHOD:PUBLISH
X-PUBLISHED-TTL:P3D
REFRESH-INTERVAL:P3D
CALSCALE:GREGORIAN
BEGIN:VEVENT
DTSTART:20250709T220000Z
DTEND:20250709T233000Z
X-MICROSOFT-CDO-ALLDAYEVENT:FALSE
SUMMARY:Income Taxes for Small Businesses
DESCRIPTION:This webinar has been developed for small business owners to provide basic information with respect to income taxes. This tax seminar will discuss the income tax impacts of the various choices available to form your business. The seminar will also provide an extensive overview of Schedule C (the businesses' income statement). In addition\, the seminar will provide a few tips on recordkeeping and cover some miscellaneous income tax matters.
X-ALT-DESC;FMTTYPE=text/html:This webinar has been developed for small business owners to provide basic information with respect to income taxes. This tax seminar will discuss the income tax impacts of the various choices available to form your business. The seminar will also provide an extensive overview of Schedule C (the businesses&rsquo\; income statement). In addition\, the seminar will provide a few tips on recordkeeping and cover some miscellaneous income tax matters.<br />\n<br />\n&nbsp\;
LOCATION:Live Event (ONLINE)
UID:e.3485.18363
SEQUENCE:3
DTSTAMP:20260422T120822Z
URL:https://www.mountdora.com/events/details/income-taxes-for-small-businesses-07-09-2025-18363
END:VEVENT

END:VCALENDAR
