BEGIN:VCALENDAR
VERSION:2.0
PRODID:-//ChamberMaster//Event Calendar 2.0//EN
METHOD:PUBLISH
X-PUBLISHED-TTL:P3D
REFRESH-INTERVAL:P3D
CALSCALE:GREGORIAN
BEGIN:VEVENT
DTSTART:20241219T170000Z
DTEND:20241219T183000Z
X-MICROSOFT-CDO-ALLDAYEVENT:FALSE
SUMMARY:How to Utilize ChatGPT for Your Business
DESCRIPTION:Want to learn how to leverage ChatGPT for your business? Or are you looking to make better use out of ChatGPT for your business? Learn how to how to create prompts the right way\, how to create custom GPTs to tailor to your specific needs\, and how to better use the AI in ChatGPT to bring your business to the next level.
X-ALT-DESC;FMTTYPE=text/html:Want to learn how to leverage ChatGPT for your business? Or are you looking to make better use out of&nbsp\;ChatGPT for&nbsp\;your business? Learn how to how to create prompts the right way\, how to create custom GPTs to tailor to your specific needs\, and how to better use the AI in ChatGPT to bring your business to the next level.
LOCATION:Online Event
UID:e.3485.13219
SEQUENCE:3
DTSTAMP:20260422T222725Z
URL:https://www.mountdora.com/events/details/how-to-utilize-chatgpt-for-your-business-13219
END:VEVENT

END:VCALENDAR
