BEGIN:VCALENDAR
VERSION:2.0
PRODID:-//ChamberMaster//Event Calendar 2.0//EN
METHOD:PUBLISH
X-PUBLISHED-TTL:P3D
REFRESH-INTERVAL:P3D
CALSCALE:GREGORIAN
BEGIN:VEVENT
DTSTART:20250924T140000Z
DTEND:20250924T150000Z
X-MICROSOFT-CDO-ALLDAYEVENT:FALSE
SUMMARY:How to Stay Consistent with Your Content Creation Without Burnout
DESCRIPTION:Struggling to keep up with content demands to stay consistent without sacrificing quality? This interactive workshop will be a game-changing strategy where you'll learn how to create a content development process that can help you produce more content in less time\, allowing you to work smarter - not harder.\n\n\n\nIn this workshop session\, you'll discover:\n\n\n\nStep-by-step techniques for setting up a content batching system to create more quality content.\n\nProven workflows for tackling different types of content\, from social media posts to videos to blog posts.\n\nTips to develop your own content development that reduces burnout and keeps your content calendar full.\n\n\n\nBy the end of this workshop\, you'll leave with a repeatable system to keep you consistently ahead of your business goals and in control of your marketing messaging.
X-ALT-DESC;FMTTYPE=text/html:Struggling to keep up with content demands to stay consistent without sacrificing quality? This interactive workshop will be a game-changing strategy where you&#39\;ll learn how to create a content development process that can help you produce more content in less time\, allowing you to work smarter - not harder.<br />\n<br />\nIn this workshop session\, you&#39\;ll discover:<br />\n<br />\nStep-by-step techniques for setting up a content batching system to create more quality content.<br />\nProven workflows for tackling different types of content\, from social media posts to videos to blog posts.<br />\nTips to develop your own content development that reduces burnout and keeps your content calendar full.<br />\n<br />\nBy the end of this workshop\, you&#39\;ll leave with a repeatable system to keep you consistently ahead of your business goals and in control of your marketing messaging.&nbsp\;
LOCATION:Online Event
UID:e.3485.19557
SEQUENCE:3
DTSTAMP:20260422T091357Z
URL:https://www.mountdora.com/events/details/how-to-stay-consistent-with-your-content-creation-without-burnout-09-24-2025-19557
END:VEVENT

END:VCALENDAR
