BEGIN:VCALENDAR
VERSION:2.0
PRODID:-//ChamberMaster//Event Calendar 2.0//EN
METHOD:PUBLISH
X-PUBLISHED-TTL:P3D
REFRESH-INTERVAL:P3D
CALSCALE:GREGORIAN
BEGIN:VEVENT
DTSTART:20250205T170000Z
DTEND:20250205T180000Z
X-MICROSOFT-CDO-ALLDAYEVENT:FALSE
SUMMARY:How to Optimize a Website Page for Search Engine\, Step by Step
DESCRIPTION:In this webinar\, you will learn:\n\n\n\n \n\n\n\nThe art of strategic keyword placement for maximum impact\n\nInsider tips for crafting SEO-friendly URLs that search engines love\n\nThe power of heading tags and how to use them effectively\n\nThe delicate balance of keyword density - how much is too much?\n\nImage optimization techniques that boost both SEO and user experience\n\nThe secret sauce of internal and external linking for SEO success\n\nHow to write irresistible meta titles and descriptions that demand clicks\n\nProven strategies to keep visitors engaged and coming back for more\n\nThe ultimate goal: turning visitors into customers through smart conversion optimization
X-ALT-DESC;FMTTYPE=text/html:In this webinar\, you will learn:<br />\n<br />\n&nbsp\;<br />\n<br />\nThe art of strategic keyword placement for maximum impact<br />\nInsider tips for crafting SEO-friendly URLs that search engines love<br />\nThe power of heading tags and how to use them effectively<br />\nThe delicate balance of keyword density - how much is too much?<br />\nImage optimization techniques that boost both SEO and user experience<br />\nThe secret sauce of internal and external linking for SEO success<br />\nHow to write irresistible meta titles and descriptions that demand clicks<br />\nProven strategies to keep visitors engaged and coming back for more<br />\nThe ultimate goal: turning visitors into customers through smart conversion optimization
LOCATION:Online Event
UID:e.3485.13630
SEQUENCE:3
DTSTAMP:20260422T205253Z
URL:https://www.mountdora.com/events/details/how-to-optimize-a-website-page-for-search-engine-step-by-step-13630
END:VEVENT

END:VCALENDAR
