BEGIN:VCALENDAR
VERSION:2.0
PRODID:-//ChamberMaster//Event Calendar 2.0//EN
METHOD:PUBLISH
X-PUBLISHED-TTL:P3D
REFRESH-INTERVAL:P3D
CALSCALE:GREGORIAN
BEGIN:VEVENT
DTSTART:20250609T170000Z
DTEND:20250609T183000Z
X-MICROSOFT-CDO-ALLDAYEVENT:FALSE
SUMMARY:How to Market Your Business Without Getting Too Complicated
DESCRIPTION:Marketing is largely storytelling. Every business and brand has a story. How do you share it without spending half your working hours putting together marketing plans and working on content creation?\n\n\n\nEvery business and business owner has a rich and complex history\, passion for why they do what they do\, and a drive to share what they offer with the world.\n\n\n\nShort of hiring a professional\, what are some simple ways you can share yourself\, your story\, the story of your brand\, and what you offer?\n\n\n\nDo you ask an AI to write something about you? How do you know the AI is going to know your story well enough to pick the pieces you should actually be sharing?\n\n\n\nAnd once you know that\, there are so many platforms out there. How do you know which platforms to use and where to spend your time and energy when it comes to making posts?\n\n\n\nThis webinar will go over\n\n\n\n- How to figure out what the story is that you want to share\n\n\n\n- Simple questions to ask and answer when it comes to your content creation\n\n\n\n- Easy content ideas for quick posts which share your story\n\n\n\n- Different social media platforms and which to focus on\n\n\n\n- How to save time and maximize reach by utilizing multiple platforms\n\n\n\nThis webinar is scheduled for 1 hour of instruction and 30 minutes of questions.
X-ALT-DESC;FMTTYPE=text/html:Marketing is largely storytelling. Every business and brand has a story. How do you share it without spending half your working hours putting together marketing plans and working on content creation?<br />\n<br />\nEvery business and business owner has a rich and complex history\, passion for why they do what they do\, and a drive to share what they offer with the world.<br />\n<br />\nShort of hiring a professional\, what are some simple ways you can share yourself\, your story\, the story of your brand\, and what you offer?<br />\n<br />\nDo you ask an AI to write something about you? How do you know the AI is going to know your story well enough to pick the pieces you should actually be sharing?<br />\n<br />\nAnd once you know that\, there are so many platforms out there. How do you know which platforms to use and where to spend your time and energy when it comes to making posts?<br />\n<br />\nThis webinar will go over<br />\n<br />\n- How to figure out what the story is that you want to share<br />\n<br />\n- Simple questions to ask and answer when it comes to your content creation<br />\n<br />\n- Easy content ideas for quick posts which share your story<br />\n<br />\n- Different social media platforms and which to focus on<br />\n<br />\n- How to save time and maximize reach by utilizing multiple platforms<br />\n<br />\nThis webinar is scheduled for 1 hour of instruction and 30 minutes of questions.<br />\n<br />\n&nbsp\;
LOCATION:Online Event
UID:e.3485.18284
SEQUENCE:3
DTSTAMP:20260422T150401Z
URL:https://www.mountdora.com/events/details/how-to-market-your-business-without-getting-too-complicated-18284
END:VEVENT

END:VCALENDAR
