BEGIN:VCALENDAR
VERSION:2.0
PRODID:-//ChamberMaster//Event Calendar 2.0//EN
METHOD:PUBLISH
X-PUBLISHED-TTL:P3D
REFRESH-INTERVAL:P3D
CALSCALE:GREGORIAN
BEGIN:VEVENT
DTSTART:20251013T170000Z
DTEND:20251013T183000Z
X-MICROSOFT-CDO-ALLDAYEVENT:FALSE
SUMMARY:HOW TO MARKET YOUR BUSINESS DURING THE HOLIDAYS
DESCRIPTION:The holidays are complicated enough without having to think about how to keep up with all the holiday specials and everything else. Thanksgiving\, Black Friday\, Small Business Saturday\, Cyber Monday - and that's just 1 week in November! \n\n\n\n\n\n\n\n\n\nHow can you create a simple (and doable) marketing plan to carry your business from Halloween through New Year's Day while still having enough time to actually enjoy the holidays yourself?\n\n\n\n\n\n\n\n\n\nIn this webinar Koura will break down some marketing basics and give you some tips for \n\n\n\n- Planning social media content during the holidays\n\n\n\n- Creating a marketing schedule to assist with managing the chaos\n\n\n\n- Simple content creation ideas without looking like everyone else by using AI\n\n\n\n- Ways to decide which holidays to focus on\n\n\n\n- Time management strategies to include marketing tasks in the busy holiday season
X-ALT-DESC;FMTTYPE=text/html:The holidays are complicated enough without having to think about how to keep up with all the holiday specials and everything else.&nbsp\;Thanksgiving\, Black Friday\, Small Business Saturday\, Cyber Monday - and that&#39\;s just 1 week in November!&nbsp\;<br />\n<br />\n<br />\n<br />\n<br />\nHow can you create a simple (and doable) marketing plan to carry your business from Halloween through New Year&#39\;s Day while still having enough time to actually enjoy the holidays yourself?<br />\n<br />\n<br />\n<br />\n<br />\nIn this webinar Koura will break down some marketing basics and give you some tips for&nbsp\;<br />\n<br />\n- Planning social media content during the holidays<br />\n<br />\n-&nbsp\;Creating a marketing schedule to assist with managing the chaos<br />\n<br />\n- Simple content creation ideas without looking like everyone else by using AI<br />\n<br />\n- Ways to decide which holidays to focus on<br />\n<br />\n- Time management strategies to include marketing tasks in the busy holiday season
LOCATION:Online Event
UID:e.3485.19617
SEQUENCE:3
DTSTAMP:20260422T091623Z
URL:https://www.mountdora.com/events/details/how-to-market-your-business-during-the-holidays-19617
END:VEVENT

END:VCALENDAR
