BEGIN:VCALENDAR
VERSION:2.0
PRODID:-//ChamberMaster//Event Calendar 2.0//EN
METHOD:PUBLISH
X-PUBLISHED-TTL:P3D
REFRESH-INTERVAL:P3D
CALSCALE:GREGORIAN
BEGIN:VEVENT
DTSTART:20250828T213000Z
DTEND:20250828T233000Z
X-MICROSOFT-CDO-ALLDAYEVENT:FALSE
SUMMARY:How to Manage Your Business with KPIs (Key Performance Indicators)
DESCRIPTION:Using financial statements to manage a business is a good place to start\, but Key Performance Indicators(or KPIs)go to the next level. They provide more detailed insights of where your business is succeeding and failing. We will discuss the concept of leading KPIs which can give you an earlier read on the direction of your business than the typical financial statements.\n\n\n\n This workshop will cover what KPIs are available\, how to calculate them and how to select the\n\nright ones for you given your type of business.\n\n\n\n We will cover multiple KPIs in each of the following categories:\n\n\n\n  Profitability\n\n\n\n  Financial Liquidity\n\n\n\n  Revenue\n\n\n\n  Sale Process\n\n\n\n  Sales Effectiveness\n\n\n\n  Customer Service\, Retention and Satisfaction
X-ALT-DESC;FMTTYPE=text/html:Using financial statements to manage a business is a good place to start\, but Key Performance Indicators(or KPIs)go to the next level. They provide more detailed insights of where your business is succeeding and failing. We will discuss the concept of leading KPIs which can give you an earlier read on the direction of your business than the typical financial statements.<br />\n<br />\n&nbsp\;This workshop will cover what KPIs are available\, how to calculate them and how to select the<br />\nright ones for you given your type of business.<br />\n<br />\n&nbsp\;We will cover multiple KPIs in each of the following categories:<br />\n<br />\n&middot\;&nbsp\;Profitability<br />\n<br />\n&middot\;&nbsp\;Financial Liquidity<br />\n<br />\n&middot\;&nbsp\;Revenue<br />\n<br />\n&middot\;&nbsp\;Sale Process<br />\n<br />\n&middot\;&nbsp\;Sales Effectiveness<br />\n<br />\n&middot\;&nbsp\;Customer Service\, Retention and Satisfaction
LOCATION:Online Event
UID:e.3485.19458
SEQUENCE:3
DTSTAMP:20260422T110058Z
URL:https://www.mountdora.com/events/details/how-to-manage-your-business-with-kpis-key-performance-indicators-08-28-2025-19458
END:VEVENT

END:VCALENDAR
