BEGIN:VCALENDAR
VERSION:2.0
PRODID:-//ChamberMaster//Event Calendar 2.0//EN
METHOD:PUBLISH
X-PUBLISHED-TTL:P3D
REFRESH-INTERVAL:P3D
CALSCALE:GREGORIAN
BEGIN:VEVENT
DTSTART:20260304T223000Z
DTEND:20260305T003000Z
X-MICROSOFT-CDO-ALLDAYEVENT:FALSE
SUMMARY:How to Find Financing for My Small Business
DESCRIPTION:Did you know that business loans as small as $1\,000 are now available and that there are loan programs designed specifically for home-based businesses not yet in operation? This workshop will discuss the various types of financing.\n\n\n\nThis workshop will review the types of business financing and the requirements for obtaining them:\n\n\n\n\n\n\n\n\n\n  Debt vs. Equity Financing\n\n\n\n  Traditional vs. Online Lenders\n\n\n\n  Small Business Administration (SBA) Backed Loans\n\n\n\n  Startup and Micro Loans\n\n\n\n  Non-Profit Lenders\n\n\n\n  Invoice Financing\n\n\n\n  Online Business Loans \n\n\n\n  Crowdfunding
X-ALT-DESC;FMTTYPE=text/html:Did you know that business loans as small as $1\,000 are now available and that there are loan programs designed specifically for home-based businesses not yet in operation? This workshop will discuss the various types of financing.<br />\n<br />\nThis workshop will review the types of business financing and the requirements for obtaining them:<br />\n<br />\n<br />\n<br />\n<br />\n&bull\; Debt vs. Equity Financing<br />\n<br />\n&bull\; Traditional vs. Online Lenders<br />\n<br />\n&bull\; Small Business Administration (SBA) Backed Loans<br />\n<br />\n&bull\; Startup and Micro Loans<br />\n<br />\n&bull\; Non-Profit Lenders<br />\n<br />\n&bull\; Invoice Financing<br />\n<br />\n&bull\; Online Business Loans&nbsp\;<br />\n<br />\n&bull\; Crowdfunding
LOCATION:Online Event
UID:e.3485.19949
SEQUENCE:3
DTSTAMP:20260421T211819Z
URL:https://www.mountdora.com/events/details/how-to-find-financing-for-my-small-business-19949
END:VEVENT

END:VCALENDAR
