BEGIN:VCALENDAR
VERSION:2.0
PRODID:-//ChamberMaster//Event Calendar 2.0//EN
METHOD:PUBLISH
X-PUBLISHED-TTL:P3D
REFRESH-INTERVAL:P3D
CALSCALE:GREGORIAN
BEGIN:VEVENT
DTSTART:20241210T223000Z
DTEND:20241211T003000Z
X-MICROSOFT-CDO-ALLDAYEVENT:FALSE
SUMMARY:How to Develop Your Three Year Financial Forecast
DESCRIPTION:If borrowing money\, lenders will demand it. This workshop will show you how to estimate monthly sales and expenses using a free SCORE forecasting template.\n\n\n\nThis workshop will cover the following topics:\n\n\n\n\n\n\n\n\n\n  How to estimate monthly sales \n\n\n\n  What expense categories need to be in your forecast and how to estimate them.\n\n\n\n  How to use the free SCORE template to automate your forecast.\n\n\n\n  The key metrics to look for in your forecast \n\n\n\n  How to use your forecast after you open your business.
X-ALT-DESC;FMTTYPE=text/html:If borrowing money\, lenders will demand it. This workshop will show you how to estimate monthly sales and expenses&nbsp\;using a free SCORE forecasting template.<br />\n<br />\nThis workshop will cover the following topics:<br />\n<br />\n<br />\n<br />\n<br />\n&bull\; How to estimate monthly sales&nbsp\;<br />\n<br />\n&bull\; What expense categories need to be in your forecast and how to estimate them.<br />\n<br />\n&bull\; How to use the free SCORE template to automate your forecast.<br />\n<br />\n&bull\; The key metrics to look for in your forecast&nbsp\;<br />\n<br />\n&bull\; How to use your forecast after you open your business.
LOCATION:Online Event
UID:e.3485.13212
SEQUENCE:3
DTSTAMP:20260422T222810Z
URL:https://www.mountdora.com/events/details/how-to-develop-your-three-year-financial-forecast-12-10-2024-13212
END:VEVENT

END:VCALENDAR
