BEGIN:VCALENDAR
VERSION:2.0
PRODID:-//ChamberMaster//Event Calendar 2.0//EN
METHOD:PUBLISH
X-PUBLISHED-TTL:P3D
REFRESH-INTERVAL:P3D
CALSCALE:GREGORIAN
BEGIN:VEVENT
DTSTART:20250922T170000Z
DTEND:20250922T190000Z
X-MICROSOFT-CDO-ALLDAYEVENT:FALSE
SUMMARY:How to Create Snazzy Graphics for Social Media Step-by-Step Demo
DESCRIPTION:This workshop will offer step-by-step demos of some tools you can use to create banner images or images for social media or a blog post\, presentations\, videos\, and more. \n\n\n\n\n\n\n\n\n\nWordart.com is a word cloud tool \n\n\n\nPickochart.com is a tool for infographics and more\, and you can try a few for free before you buy\n\n\n\nCanva.com is a graphic design tool and you can use it for social media\, personal\, business\, marketing\, education\, and more. There are so many templates available\, and with too many to list\, take a peek yourself! https://www.canva.com/templates/&nbsp\;\n\n\n\nJoin us to learn more! We will allow time for Q&A.
X-ALT-DESC;FMTTYPE=text/html:This workshop will offer step-by-step demos of some tools you can use to create banner images or images for social media or a blog post\, presentations\, videos\, and more.&nbsp\;<br />\n<br />\n<br />\n<br />\n<br />\nWordart.com is a word cloud tool&nbsp\;<br />\n<br />\nPickochart.com is a tool for infographics and more\, and you can try a few for free before you buy<br />\n<br />\nCanva.com is a graphic design tool and you can use it for social media\, personal\, business\, marketing\, education\, and more. There are so many templates available\, and with too many to list\, take a peek yourself!&nbsp\;https://www.canva.com/templates/&amp\;nbsp\;<br />\n<br />\nJoin us to learn more! We will allow time for Q&amp\;A.
LOCATION:Online Event
UID:e.3485.19554
SEQUENCE:3
DTSTAMP:20260422T103307Z
URL:https://www.mountdora.com/events/details/how-to-create-snazzy-graphics-for-social-media-step-by-step-demo-19554
END:VEVENT

END:VCALENDAR
