BEGIN:VCALENDAR
VERSION:2.0
PRODID:-//ChamberMaster//Event Calendar 2.0//EN
METHOD:PUBLISH
X-PUBLISHED-TTL:P3D
REFRESH-INTERVAL:P3D
CALSCALE:GREGORIAN
BEGIN:VEVENT
DTSTART:20250811T170000Z
DTEND:20250811T183000Z
X-MICROSOFT-CDO-ALLDAYEVENT:FALSE
SUMMARY:How To Create Content That Checks Boxes Without Losing Your Story or Your Brand
DESCRIPTION:In order for content to be seen\, it goes through several layers of computer programs that monitor search engines. While there are boxes you do have to check\, how do you keep your story at the heart of it all and not lose your brand to an AI-generated agglomeration and a flood of "required" keywords? And at what point should you just stop worrying about it?\n\n\n\nThis webinar will discuss ways to ensure your content checks boxes without losing who you are in the process:\n\n\n\n- What is an algorithm and why does it matter?\n\n\n\n- What is SEO and what do you need to know about it (basically)?\n\n\n\n- How can you create content that has a higher potential to be seen?\n\n\n\n- How do you keep your story and brand at the forefront while still staying relevant and following trends?\n\n\n\n- What is most important when working to get your message out there?
X-ALT-DESC;FMTTYPE=text/html:In order for content to be seen\, it goes through several layers of computer programs that monitor search engines. While there are boxes you do have to check\, how do you keep your story at the heart of it all and not lose your brand to an AI-generated agglomeration and a flood of &quot\;required&quot\; keywords? And at what point should you just stop worrying about it?<br />\n<br />\nThis webinar will discuss ways to ensure your content checks boxes without losing who you are in the process:<br />\n<br />\n- What is an algorithm and why does it matter?<br />\n<br />\n- What is SEO and what do you need to know about it (basically)?<br />\n<br />\n- How can you create content that has a higher potential to be seen?<br />\n<br />\n- How do you keep your story and brand at the forefront while still staying relevant and following trends?<br />\n<br />\n- What is most important when working to get your message out there?
LOCATION:Online Event
UID:e.3485.19438
SEQUENCE:3
DTSTAMP:20260422T110227Z
URL:https://www.mountdora.com/events/details/how-to-create-content-that-checks-boxes-without-losing-your-story-or-your-brand-08-11-2025-19438
END:VEVENT

END:VCALENDAR
