BEGIN:VCALENDAR
VERSION:2.0
PRODID:-//ChamberMaster//Event Calendar 2.0//EN
METHOD:PUBLISH
X-PUBLISHED-TTL:P3D
REFRESH-INTERVAL:P3D
CALSCALE:GREGORIAN
BEGIN:VEVENT
DTSTART:20250701T140000Z
DTEND:20250701T153000Z
X-MICROSOFT-CDO-ALLDAYEVENT:FALSE
SUMMARY:How They Buy: Selling to the Four Personality Styles
DESCRIPTION:Every client has their own decision-making style. This session equips you with the tools to decode the four major personality types\, adapt your pitch to match their preferences\, and dramatically improve your sales results.
X-ALT-DESC;FMTTYPE=text/html:Every client has their own decision-making style. This session equips you with the tools to decode the four major personality types\, adapt your pitch to match their preferences\, and dramatically improve your sales results.
LOCATION:Live Event (ONLINE)
UID:e.3485.18357
SEQUENCE:3
DTSTAMP:20260422T120837Z
URL:https://www.mountdora.com/events/details/how-they-buy-selling-to-the-four-personality-styles-07-01-2025-18357
END:VEVENT

END:VCALENDAR
