BEGIN:VCALENDAR
VERSION:2.0
PRODID:-//ChamberMaster//Event Calendar 2.0//EN
METHOD:PUBLISH
X-PUBLISHED-TTL:P3D
REFRESH-INTERVAL:P3D
CALSCALE:GREGORIAN
BEGIN:VEVENT
DTSTART:20251020T160000Z
DTEND:20251020T173000Z
X-MICROSOFT-CDO-ALLDAYEVENT:FALSE
SUMMARY:How Nonprofit Founders Get Paid!
DESCRIPTION:During this interactive workshop\, we'll discuss the importance of financial sustainability for nonprofits and common misconceptions surrounding founder compensation. Our expert trainer will share her insights and experiences\, providing valuable tips and strategies for paying yourself as a nonprofit founder - even if you are a new!\n\n\n\nWhether you're a current nonprofit founder or aspiring to start your own organization\, this event will equip you with the knowledge and tools to navigate your way to nonprofit compensation. \n\n\n\nDon't miss out on this opportunity to learn\, connect\, and grow!
X-ALT-DESC;FMTTYPE=text/html:During this interactive workshop\, we&#39\;ll discuss the importance of financial sustainability for nonprofits and common misconceptions surrounding founder compensation. Our expert trainer will share her insights and experiences\, providing valuable tips and strategies for paying yourself as a nonprofit founder - even if you are a new!<br />\n<br />\nWhether you&#39\;re a current nonprofit founder or aspiring to start your own organization\, this event will equip you with the knowledge and tools to navigate your way to nonprofit compensation.&nbsp\;<br />\n<br />\nDon&#39\;t miss out on this opportunity to learn\, connect\, and grow!
LOCATION:Online Event
UID:e.3485.19714
SEQUENCE:3
DTSTAMP:20260422T074748Z
URL:https://www.mountdora.com/events/details/how-nonprofit-founders-get-paid-10-20-2025-19714
END:VEVENT

END:VCALENDAR
