BEGIN:VCALENDAR
VERSION:2.0
PRODID:-//ChamberMaster//Event Calendar 2.0//EN
METHOD:PUBLISH
X-PUBLISHED-TTL:P3D
REFRESH-INTERVAL:P3D
CALSCALE:GREGORIAN
BEGIN:VEVENT
DTSTART:20250121T223000Z
DTEND:20250122T003000Z
X-MICROSOFT-CDO-ALLDAYEVENT:FALSE
SUMMARY:How Do I Start a Home Based Business in Florida?
DESCRIPTION:This seminar will discuss what types of businesses you can (and cannot) operate from your home. We will also show you step-by-step what you need to do to get your business up and running\, including getting the necessary registrations\, licenses and permits from Florida and United States government entities. The presentation will cover the following:\n\n\n\nCharacteristics of Home Based Businesses and their owners.\n\n\n\nZoning and other restrictions on home based businesses.\n\n\n\nCreating a business legal entity.\n\n\n\nHow to Get a FEIN\n\n\n\nSetting up a home office\n\n\n\nBuilding your "Dream Team".\n\n\n\nFederal and Florida taxation.\n\n\n\nA business startup checklist.
X-ALT-DESC;FMTTYPE=text/html:This seminar will discuss what types of businesses you can (and cannot) operate from your home.&nbsp\;We will also show you step-by-step what you need to do to get your business up and running\, including getting the necessary registrations\, licenses and permits from Florida and United States government entities.&nbsp\;The presentation will cover the following:<br />\n<br />\nCharacteristics of Home Based Businesses and their owners.<br />\n<br />\nZoning and other restrictions on home based businesses.<br />\n<br />\nCreating a business legal entity.<br />\n<br />\nHow to Get a FEIN<br />\n<br />\nSetting up a home office<br />\n<br />\nBuilding your &ldquo\;Dream Team&rdquo\;.<br />\n<br />\nFederal and Florida taxation.<br />\n<br />\nA business startup checklist.<br />\n<br />\n&nbsp\;
LOCATION:Online Event
UID:e.3485.13261
SEQUENCE:3
DTSTAMP:20260422T223146Z
URL:https://www.mountdora.com/events/details/how-do-i-start-a-home-based-business-in-florida-01-21-2025-13261
END:VEVENT

END:VCALENDAR
