BEGIN:VCALENDAR
VERSION:2.0
PRODID:-//ChamberMaster//Event Calendar 2.0//EN
METHOD:PUBLISH
X-PUBLISHED-TTL:P3D
REFRESH-INTERVAL:P3D
CALSCALE:GREGORIAN
BEGIN:VEVENT
DTSTART:20260425T133000Z
DTEND:20260425T160000Z
X-MICROSOFT-CDO-ALLDAYEVENT:FALSE
SUMMARY:Horse Meditation Circle
DESCRIPTION:Step away from the stress of everyday life and into a peaceful\, grounding experience surrounded by nature and the gentle presence of horses.\n\nIn this guided meditation circle\, you'll:\n\n\n	??Quiet your mind and release stress\n	??Reflect through guided journaling\n	??Connect one-on-one with a horse\n	??Gain clarity and emotional balance\n\n\nThis is your space to slow down\, breathe\, and reconnect - without pressure\, without judgment.
X-ALT-DESC;FMTTYPE=text/html:<p>Step away from the stress of everyday life and into a peaceful\, grounding experience surrounded by nature and the gentle presence of horses.</p>\n\n<p>In this guided meditation circle\, you&#39\;ll:</p>\n\n<ul style="list-style-type:circle">\n	<li>??Quiet your mind and release stress</li>\n	<li>??Reflect through guided journaling</li>\n	<li>??Connect one-on-one with a horse</li>\n	<li>??Gain clarity and emotional balance</li>\n</ul>\n\n<p>This is your space to slow down\, breathe\, and reconnect - without pressure\, without judgment.</p>\n
LOCATION:Heartland Haven\, Central Florida's healing and learning center 31707 Orange St. Sorrento FL 32776
UID:e.3485.22394
SEQUENCE:3
DTSTAMP:20260419T124159Z
URL:https://www.mountdora.com/events/details/horse-meditation-circle-22394
END:VEVENT

END:VCALENDAR
