BEGIN:VCALENDAR
VERSION:2.0
PRODID:-//ChamberMaster//Event Calendar 2.0//EN
METHOD:PUBLISH
X-PUBLISHED-TTL:P3D
REFRESH-INTERVAL:P3D
CALSCALE:GREGORIAN
BEGIN:VEVENT
DTSTART:20251008T140000Z
DTEND:20251008T153000Z
X-MICROSOFT-CDO-ALLDAYEVENT:FALSE
SUMMARY:Holiday Marketing
DESCRIPTION:Content marketing is more than just words   it's your opportunity to engage\, inform\, and inspire. By creating and sharing valuable content\, you can position yourself as a trusted expert in your industry and build meaningful connections with your audience.\n\n\n\nIn this session\, you'll learn:\n\n\n\nThe 5 steps to crafting content that builds trust and loyalty.\n\nHow to create an annual Content Calendar.\n\nHow to create free content with AI.\n\nHow to repurpose a single piece of content for your website\, email marketing\, and social media.\n\nHow to spark interest in your products or services without the hard sell.\n\n\n\nLet us show you how to make your content work harder\, so your business grows faster!
X-ALT-DESC;FMTTYPE=text/html:Content marketing is more than just words &mdash\; it&#39\;s your opportunity to engage\, inform\, and inspire. By creating and sharing valuable content\, you can position yourself as a trusted expert in your industry and build meaningful connections with your audience.<br />\n<br />\nIn this session\, you&rsquo\;ll learn:<br />\n<br />\nThe 5 steps to crafting content that builds trust and loyalty.<br />\nHow to create an annual Content Calendar.<br />\nHow to create free content with AI.<br />\nHow to repurpose a single piece of content for your website\, email marketing\, and social media.<br />\nHow to spark interest in your products or services without the hard sell.<br />\n<br />\nLet us show you how to make your content work harder\, so your business grows faster!
LOCATION:Online Event
UID:e.3485.19613
SEQUENCE:3
DTSTAMP:20260422T074512Z
URL:https://www.mountdora.com/events/details/holiday-marketing-10-08-2025-19613
END:VEVENT

END:VCALENDAR
