BEGIN:VCALENDAR
VERSION:2.0
PRODID:-//ChamberMaster//Event Calendar 2.0//EN
METHOD:PUBLISH
X-PUBLISHED-TTL:P3D
REFRESH-INTERVAL:P3D
CALSCALE:GREGORIAN
BEGIN:VEVENT
DTSTART:20261205T140000Z
DTEND:20261206T220000Z
X-MICROSOFT-CDO-ALLDAYEVENT:FALSE
SUMMARY:Holiday Antique & Craft Market
DESCRIPTION:Don't miss this opportunity to find Christmas items for your home\, and gifts for others. Antiques\, vintage items\, and handmade crafts. Free Admission. Free Parking. Pet Friendly.
X-ALT-DESC;FMTTYPE=text/html:Don&#39\;t miss this opportunity to find Christmas items for your home\, and gifts for others. Antiques\, vintage items\, and handmade crafts. Free Admission. Free Parking. Pet Friendly.
LOCATION:Renninger's Antique Center
UID:e.3485.19920
SEQUENCE:3
DTSTAMP:20260422T120150Z
URL:https://www.mountdora.com/events/details/holiday-antique-craft-market-19920
END:VEVENT

END:VCALENDAR
