BEGIN:VCALENDAR
VERSION:2.0
PRODID:-//ChamberMaster//Event Calendar 2.0//EN
METHOD:PUBLISH
X-PUBLISHED-TTL:P3D
REFRESH-INTERVAL:P3D
CALSCALE:GREGORIAN
BEGIN:VEVENT
DTSTART:20250819T130000Z
DTEND:20250819T143000Z
X-MICROSOFT-CDO-ALLDAYEVENT:FALSE
SUMMARY:Hire What You Hate...The Solopreneurs Guide to Their 1st Hire
DESCRIPTION:Join us today to learn how to make your next hire decision. You will walk away with clarity around the cost and process of your next BEST hire~\n\n\n\n\n\n1. Determine your optimal working hours for tackling challenging tasks.\n\n\n\n2. Consult individuals who excel during those times to understand your own peak performance hours.\n\n\n\n3. Identify areas where you lack technical skills or experience by evaluating what doesn't bring you joy in your life.\n\n\n\n4. Assess the costs of outsourcing these tasks.\n\n\n\n5. Calculate potential gains from hiring help and explore various hiring options (W-2\, contract\, intern\, etc.).\n\n\n\n6. Learn different hiring methods\, emphasizing the importance of hiring based on future skill needs\, providing appropriate oversight\, and fair compensation.\n\n\n\n7. Educate yourself on funding opportunities and communicate your vision and goals to potential hires to ensure alignment.
X-ALT-DESC;FMTTYPE=text/html:Join us today to learn how to make your next hire decision.&nbsp\;You will walk away with clarity around the cost and process of your next BEST hire~<br />\n<br />\n<br />\n1. Determine your optimal working hours for tackling challenging tasks.<br />\n<br />\n2. Consult individuals who excel during those times to understand your own peak performance hours.<br />\n<br />\n3. Identify areas where you lack technical skills or experience by evaluating what doesn&#39\;t bring you joy in your life.<br />\n<br />\n4. Assess the costs of outsourcing these tasks.<br />\n<br />\n5. Calculate potential gains from hiring help and explore various hiring options (W-2\, contract\, intern\, etc.).<br />\n<br />\n6. Learn different hiring methods\, emphasizing the importance of hiring based on future skill needs\, providing appropriate oversight\, and fair compensation.<br />\n<br />\n7. Educate yourself on funding opportunities and communicate your vision and goals to potential hires to ensure alignment.
LOCATION:Online Event
UID:e.3485.19447
SEQUENCE:3
DTSTAMP:20260422T110009Z
URL:https://www.mountdora.com/events/details/hire-what-you-hate-the-solopreneurs-guide-to-their-1st-hire-08-19-2025-19447
END:VEVENT

END:VCALENDAR
