BEGIN:VCALENDAR
VERSION:2.0
PRODID:-//ChamberMaster//Event Calendar 2.0//EN
METHOD:PUBLISH
X-PUBLISHED-TTL:P3D
REFRESH-INTERVAL:P3D
CALSCALE:GREGORIAN
BEGIN:VEVENT
DTSTART:20250910T160000Z
DTEND:20250910T170000Z
X-MICROSOFT-CDO-ALLDAYEVENT:FALSE
SUMMARY:Helping Build and Repair Your Credit
DESCRIPTION:In this workshop\, we discuss what a credit score is\, what makes up a credit score\, how to create credit\, how to recover from bumps in the road with your credit and how to protect what you have worked so hard for.
X-ALT-DESC;FMTTYPE=text/html:In this workshop\, we discuss what a credit score is\, what makes up a credit score\, how to create credit\, how to recover from bumps in the road with your credit and how to protect what you have worked so hard for.
LOCATION:Online Event
UID:e.3485.19539
SEQUENCE:3
DTSTAMP:20260422T110014Z
URL:https://www.mountdora.com/events/details/helping-build-and-repair-your-credit-09-10-2025-19539
END:VEVENT

END:VCALENDAR
