BEGIN:VCALENDAR
VERSION:2.0
PRODID:-//ChamberMaster//Event Calendar 2.0//EN
METHOD:PUBLISH
X-PUBLISHED-TTL:P3D
REFRESH-INTERVAL:P3D
CALSCALE:GREGORIAN
BEGIN:VEVENT
DTSTART:20250930T150000Z
DTEND:20250930T160000Z
X-MICROSOFT-CDO-ALLDAYEVENT:FALSE
SUMMARY:Healing Imposter Syndrome for Faster Business Growth
DESCRIPTION:Ever feel like you're an imposter in your own business and it's only a matter of time before someone finds out you don't have it all together? You're not alone. In this impactful webinar\, we'll dive into how imposter syndrome silently holds capable business owners back from the success they deserve. Whether you're scaling or just staying afloat\, this conversation will help you recognize the hidden ways imposter thoughts show up\, challenge them with practical tools\, and start showing up as the confident leader your business needs..
X-ALT-DESC;FMTTYPE=text/html:Ever feel like you&rsquo\;re an imposter in your own business&mdash\;and it&rsquo\;s only a matter of time before someone finds out you don&rsquo\;t have it all together? You&rsquo\;re not alone. In this impactful webinar\, we&rsquo\;ll dive into how imposter syndrome silently holds capable business owners back from the success they deserve. Whether you&rsquo\;re scaling or just staying afloat\, this conversation will help you recognize the hidden ways imposter thoughts show up\, challenge them with practical tools\, and start showing up as the confident leader your business needs..
LOCATION:Online Event
UID:e.3485.19565
SEQUENCE:3
DTSTAMP:20260422T105145Z
URL:https://www.mountdora.com/events/details/healing-imposter-syndrome-for-faster-business-growth-19565
END:VEVENT

END:VCALENDAR
