BEGIN:VCALENDAR
VERSION:2.0
PRODID:-//ChamberMaster//Event Calendar 2.0//EN
METHOD:PUBLISH
X-PUBLISHED-TTL:P3D
REFRESH-INTERVAL:P3D
CALSCALE:GREGORIAN
BEGIN:VEVENT
DTSTART:20250914T120000Z
DTEND:20250914T170000Z
X-MICROSOFT-CDO-ALLDAYEVENT:FALSE
SUMMARY:Guitars and Cars
DESCRIPTION:Guitars (Big Al's Lake County Musicians Swapmeet) Buy-Sell-Trade Tons of great gear and deals Central Florida Blues Lovers Jam at noon Cars Car Cruise\, Vendors\, Showing in multiple categories for a variety of prizes like trophies and other gifts $6 to show car
X-ALT-DESC;FMTTYPE=text/html:Guitars (Big Al&#39\;s Lake County Musicians Swapmeet) Buy-Sell-Trade Tons of great gear and deals Central Florida Blues Lovers Jam at noon Cars Car Cruise\, Vendors\, Showing in multiple categories for a variety of prizes like trophies and other gifts $6 to show car
LOCATION:Renninger's Antique Center
UID:e.3485.13623
SEQUENCE:3
DTSTAMP:20260422T134442Z
URL:https://www.mountdora.com/events/details/guitars-and-cars-09-14-2025-13623
END:VEVENT

END:VCALENDAR
