BEGIN:VCALENDAR
VERSION:2.0
PRODID:-//ChamberMaster//Event Calendar 2.0//EN
METHOD:PUBLISH
X-PUBLISHED-TTL:P3D
REFRESH-INTERVAL:P3D
CALSCALE:GREGORIAN
BEGIN:VEVENT
DTSTART:20250719T000000Z
DTEND:20250719T021500Z
X-MICROSOFT-CDO-ALLDAYEVENT:FALSE
SUMMARY:GREASE at the IceHouse Theatre
DESCRIPTION:Book\, Music and Lyrics by Jim Jacobs and Warren Casey\n\nIt's 1959 in this fun-lovin'\, rock & roll musical\, as Danny Zuko\, and the new-girl-in-town\, Sandy\, try to recapture the thrill of their summer romance. Hits include Summer Nights\, Greased Lightnin'\, It's Raining on Prom Night\, Hopelessly Devoted to You\, You're the One That I Want\, and more classics!
X-ALT-DESC;FMTTYPE=text/html:<p><strong><span style="font-family:arial\,helvetica\,sans-serif\; font-size:10pt">Book\, Music and Lyrics by Jim Jacobs and Warren Casey</span></strong></p>\n\n<p><span style="font-family:arial\,helvetica\,sans-serif\; font-size:14pt">It&#39\;s 1959 in this fun-lovin&#39\;\, rock &amp\; roll musical\, as Danny Zuko\, and the new-girl-in-town\, Sandy\, try to recapture the thrill of their summer romance. Hits include Summer Nights\, Greased Lightnin&#39\;\, It&#39\;s Raining on Prom Night\, Hopelessly Devoted to You\, You&#39\;re the One That I Want\, and more classics!</span></p>\n
LOCATION:Sonnentag Theatre at the IceHouse 1100 N Unser Street Mount Dora\, FL 32757
UID:e.3485.19221
SEQUENCE:3
DTSTAMP:20260422T150108Z
URL:https://www.mountdora.com/events/details/grease-at-the-icehouse-theatre-19221
END:VEVENT

END:VCALENDAR
