BEGIN:VCALENDAR
VERSION:2.0
PRODID:-//ChamberMaster//Event Calendar 2.0//EN
METHOD:PUBLISH
X-PUBLISHED-TTL:P3D
REFRESH-INTERVAL:P3D
CALSCALE:GREGORIAN
BEGIN:VEVENT
DTSTART:20260119T170000Z
DTEND:20260119T230000Z
X-MICROSOFT-CDO-ALLDAYEVENT:FALSE
SUMMARY:Grand Opening ~ Vanderhoof Vitality
DESCRIPTION:Join us for the grand opening of Vanderhoof Vitality! \n\nEnjoy free demonstrations of the cutting-edge treatment options at this amazing new clinic in Mount Dora.\n\nExclusive Grand Opening Specials\n\n\n\nRefreshments - Entertainment - Demonstrations \n\nDrawings at 1:30 pm\, 3:30 pm\, & 5:30 pm\n\n\n\nDon't miss out on this grand opening celebration!
X-ALT-DESC;FMTTYPE=text/html:Join us for the grand opening of Vanderhoof Vitality!&nbsp\;<br />\nEnjoy free demonstrations of the cutting-edge treatment options at this amazing new clinic in Mount Dora.<br />\nExclusive Grand Opening Specials<br />\n<br />\nRefreshments - Entertainment - Demonstrations&nbsp\;<br />\nDrawings at 1:30 pm\, 3:30 pm\, &amp\; 5:30 pm<br />\n<br />\nDon&#39\;t miss out on this grand opening celebration!&nbsp\;
LOCATION:330 S. Highland St. Mt. Dora\, FL 32757
UID:e.3485.19935
SEQUENCE:3
DTSTAMP:20260422T031125Z
URL:https://www.mountdora.com/events/details/grand-opening-vanderhoof-vitality-19935
END:VEVENT

END:VCALENDAR
