BEGIN:VCALENDAR
VERSION:2.0
PRODID:-//ChamberMaster//Event Calendar 2.0//EN
METHOD:PUBLISH
X-PUBLISHED-TTL:P3D
REFRESH-INTERVAL:P3D
CALSCALE:GREGORIAN
BEGIN:VEVENT
DTSTART:20251023T220000Z
DTEND:20251023T233000Z
X-MICROSOFT-CDO-ALLDAYEVENT:FALSE
SUMMARY:Government Contracts 101: Understanding The Procurement Journey
DESCRIPTION:This course aims to demystify the government contracting (GovCon) process\, helping businesses understand the procurement lifecycle and seize government contracting opportunities at federal\, state\, and local levels. It highlights common challenges and the potential benefits available through government contracts.\n\n\n\nKey Points\n\n\n\nIdentifying Government Contracting Opportunities\n\nProcurement Lifecycle\n\nWhere Most Companies Focus vs. Where They Should Focus\n\nProposal Writing & Submission Best Practices\n\nContract Award & Post-Award Compliance
X-ALT-DESC;FMTTYPE=text/html:This course aims to demystify the government contracting (GovCon) process\, helping businesses understand the procurement lifecycle and seize government contracting opportunities at federal\, state\, and local levels. It highlights common challenges and the potential benefits available through government contracts.<br />\n<br />\nKey Points<br />\n<br />\nIdentifying Government Contracting Opportunities<br />\nProcurement Lifecycle<br />\nWhere Most Companies Focus vs. Where They Should Focus<br />\nProposal Writing &amp\; Submission Best Practices<br />\nContract Award &amp\; Post-Award Compliance
LOCATION:Online Event
UID:e.3485.19652
SEQUENCE:3
DTSTAMP:20260422T091523Z
URL:https://www.mountdora.com/events/details/government-contracts-101-understanding-the-procurement-journey-10-23-2025-19652
END:VEVENT

END:VCALENDAR
