BEGIN:VCALENDAR
VERSION:2.0
PRODID:-//ChamberMaster//Event Calendar 2.0//EN
METHOD:PUBLISH
X-PUBLISHED-TTL:P3D
REFRESH-INTERVAL:P3D
CALSCALE:GREGORIAN
BEGIN:VEVENT
DTSTART:20260529T113000Z
DTEND:20260529T183000Z
X-MICROSOFT-CDO-ALLDAYEVENT:FALSE
SUMMARY:GOLF CLASSIC - ST. PATRICK CATHOLIC CHURCH
DESCRIPTION:Get ready to support two of St. Patrick's most giving non-profit charitable organizations. Come tee off at the most exciting golf tournament of the year! Whether you're a seasoned player\, a beginner or just love supporting the local service works of non-profits\, the St. Patrick Classic is your chance to leave it all on the course and walk away a champion!\n\n\n\n***Sponsorships available**
X-ALT-DESC;FMTTYPE=text/html:Get ready to support two of St. Patrick&rsquo\;s most giving non-profit charitable organizations. Come tee off at the most exciting golf tournament of the year! Whether you&#39\;re a seasoned player\, a beginner or just love supporting the local service works of non-profits\, the St. Patrick Classic is your chance to leave it all on the course and walk away a champion!<br />\n<br />\n***Sponsorships available**
LOCATION:Deer Island Country Club 18000 Eagles Club House Way Deer Island\, FL 32757
UID:e.3485.22397
SEQUENCE:3
DTSTAMP:20260422T013106Z
URL:https://www.mountdora.com/events/details/golf-classic-st-patrick-catholic-church-22397
END:VEVENT

END:VCALENDAR
