BEGIN:VCALENDAR
VERSION:2.0
PRODID:-//ChamberMaster//Event Calendar 2.0//EN
METHOD:PUBLISH
X-PUBLISHED-TTL:P3D
REFRESH-INTERVAL:P3D
CALSCALE:GREGORIAN
BEGIN:VEVENT
DTSTART:20250114T150000Z
DTEND:20250114T160000Z
X-MICROSOFT-CDO-ALLDAYEVENT:FALSE
SUMMARY:Get Unstuck: Live group coaching on your advertising and marketing messages
DESCRIPTION:Where are you struggling to stop that frustrating leak in your funnel? Where are you hitting a wall trying to communicate your product's true value?\n\n\n\nThat's what we want to see. So we can help you out.\n\n\n\nBring us your real-world marketing messaging challenges   or just sit back and learn from your peers' challenge   in this hands-on\, interactive session\n\n\n\nYou will get ideas you can quickly execute on to improve your copywriting and design.
X-ALT-DESC;FMTTYPE=text/html:Where are you struggling to stop that frustrating leak in your funnel? Where are you hitting a wall trying to communicate your product&rsquo\;s true value?<br />\n<br />\nThat&rsquo\;s what we want to see. So we can help you out.<br />\n<br />\nBring us your real-world marketing messaging challenges &ndash\; or just sit back and learn from your peers&rsquo\; challenge &ndash\; in this hands-on\, interactive session<br />\n<br />\nYou will get ideas you can quickly execute on to improve your copywriting and design.
LOCATION:Online Event
UID:e.3485.13250
SEQUENCE:3
DTSTAMP:20260422T223231Z
URL:https://www.mountdora.com/events/details/get-unstuck-live-group-coaching-on-your-advertising-and-marketing-messages-13250
END:VEVENT

END:VCALENDAR
