BEGIN:VCALENDAR
VERSION:2.0
PRODID:-//ChamberMaster//Event Calendar 2.0//EN
METHOD:PUBLISH
X-PUBLISHED-TTL:P3D
REFRESH-INTERVAL:P3D
CALSCALE:GREGORIAN
BEGIN:VEVENT
DTSTART:20250729T190000Z
DTEND:20250729T200000Z
X-MICROSOFT-CDO-ALLDAYEVENT:FALSE
SUMMARY:Get Unstuck: Live Group Coaching on Your Advertising and Marketing Messages
DESCRIPTION:Where are you struggling to stop that frustrating leak in your funnel? Where are you hitting a wall trying to communicate your product's true value?\n\n\n\nThat's what we want to see. So we can help you out.\n\n\n\nBring us your real-world marketing messaging challenges   or just sit back and learn from your peers' challenge   in this hands-on\, interactive session led by Daniel Burstein\, Senior Director of Content and Marketing\, MarketingSherpa and MeclabsAI.\n\n\n\nBurstein will give you ideas you can quickly execute on to improve your copywriting and design\, based on:\n\n\n\n      25 years of case study articles\, data charts\, and in-depth interviews with marketers and entrepreneurs\n\n\n\n      Conversion optimization methodology\n\n\n\n      Instant\, in-depth insights\n\n\n\nEmail Daniel.Burstein@Meclabs.com by 7/24/25 and tell him where you're stuck. Give him as much specific details as you can (landing pages\, ads\, copy\, etc). You may get selected for live\, interactive group coaching in this session.
X-ALT-DESC;FMTTYPE=text/html:Where are you struggling to stop that frustrating leak in your funnel? Where are you hitting a wall trying to communicate your product&rsquo\;s true value?<br />\n<br />\nThat&rsquo\;s what we want to see. So we can help you out.<br />\n<br />\nBring us your real-world marketing messaging challenges &ndash\; or just sit back and learn from your peers&rsquo\; challenge &ndash\; in this hands-on\, interactive session led by Daniel Burstein\, Senior Director of Content and Marketing\, MarketingSherpa and MeclabsAI.<br />\n<br />\nBurstein will give you ideas you can quickly execute on to improve your copywriting and design\, based on:<br />\n<br />\n&middot\;&nbsp\;&nbsp\;&nbsp\;&nbsp\;&nbsp\;25 years of case study articles\, data charts\, and in-depth interviews with marketers and entrepreneurs<br />\n<br />\n&middot\;&nbsp\;&nbsp\;&nbsp\;&nbsp\;&nbsp\;Conversion optimization methodology<br />\n<br />\n&middot\;&nbsp\;&nbsp\;&nbsp\;&nbsp\;&nbsp\;Instant\, in-depth insights<br />\n<br />\nEmail&nbsp\;Daniel.Burstein@Meclabs.com&nbsp\;by 7/24/25 and tell him where you&rsquo\;re stuck.&nbsp\;Give him as much specific details as you can (landing pages\, ads\, copy\, etc). You may get selected for live\, interactive group coaching in this session.<br />\n<br />\n&nbsp\;
LOCATION:LIVE EVENT (ONLINE)
UID:e.3485.18385
SEQUENCE:3
DTSTAMP:20260422T120719Z
URL:https://www.mountdora.com/events/details/get-unstuck-live-group-coaching-on-your-advertising-and-marketing-messages-07-29-2025-18385
END:VEVENT

END:VCALENDAR
