BEGIN:VCALENDAR
VERSION:2.0
PRODID:-//ChamberMaster//Event Calendar 2.0//EN
METHOD:PUBLISH
X-PUBLISHED-TTL:P3D
REFRESH-INTERVAL:P3D
CALSCALE:GREGORIAN
BEGIN:VEVENT
DTSTART:20241202T230000Z
DTEND:20241203T010000Z
X-MICROSOFT-CDO-ALLDAYEVENT:FALSE
SUMMARY:Gearing Up for 2025: Goal Setting that Brings Results
DESCRIPTION:Discover how to effectively set and achieve your 2025 goals. Position yourself to achieve your goals like a top goal achiever. In this interactive webinar you will actual set your goals and learn:\n\n\n\nThe Truth about Goal Setting and Achievement\n\n3 Most Important Components of Goal Setting\n\nSetting Goals that Achieve Results\n\nHow to Validate Your Goals (So you don't waste time).\n\nThe key to moving beyond setting a SMART goal for achievement consistency\n\nObstacles to Goal Achievement and How to Overcome Them.\n\nYou will find these techniques helpful in your personal life and your business. Make this the year you grow with consistency and achieve your personal and business goals.
X-ALT-DESC;FMTTYPE=text/html:Discover how to effectively set and achieve your 2025 goals. Position yourself to achieve your goals like a top goal achiever.&nbsp\;In this interactive webinar you will actual set your goals and learn:<br />\n<br />\nThe Truth about Goal Setting and Achievement<br />\n3 Most Important Components of Goal Setting<br />\nSetting Goals that Achieve Results<br />\nHow to Validate Your Goals (So you don&#39\;t waste time).<br />\nThe key to moving beyond setting a SMART goal for achievement consistency<br />\nObstacles to Goal Achievement and How to Overcome Them.<br />\nYou will find these techniques helpful in your personal life and your business.&nbsp\;Make this the year you grow with consistency and achieve your personal and business goals.&nbsp\;
LOCATION:Online Event
UID:e.3485.13220
SEQUENCE:3
DTSTAMP:20260422T223031Z
URL:https://www.mountdora.com/events/details/gearing-up-for-2025-goal-setting-that-brings-results-13220
END:VEVENT

END:VCALENDAR
