BEGIN:VCALENDAR
VERSION:2.0
PRODID:-//ChamberMaster//Event Calendar 2.0//EN
METHOD:PUBLISH
X-PUBLISHED-TTL:P3D
REFRESH-INTERVAL:P3D
CALSCALE:GREGORIAN
BEGIN:VEVENT
DTSTART:20251016T230000Z
DTEND:20251017T000000Z
X-MICROSOFT-CDO-ALLDAYEVENT:FALSE
SUMMARY:Gathering Info to Support Your Business Idea
DESCRIPTION:Although you have a great idea\, it is easy to miss the mark if you and your prospective customers have different views of what they need. In this webinar\, we will learn how easy it is to conduct effective interviews with people in your target market so that you can optimize your business idea. This simple approach will improve your chance of success.
X-ALT-DESC;FMTTYPE=text/html:Although you have a great idea\, it is easy to&nbsp\;miss the mark if you and your prospective customers have different views of what they need. In this webinar\, we will learn how easy it is to&nbsp\;conduct effective interviews&nbsp\;with people in your target market so that you can&nbsp\;optimize your business idea. This simple approach will improve your chance of success.
LOCATION:Online Event
UID:e.3485.19633
SEQUENCE:3
DTSTAMP:20260422T074739Z
URL:https://www.mountdora.com/events/details/gathering-info-to-support-your-business-idea-10-16-2025-19633
END:VEVENT

END:VCALENDAR
