BEGIN:VCALENDAR
VERSION:2.0
PRODID:-//ChamberMaster//Event Calendar 2.0//EN
METHOD:PUBLISH
X-PUBLISHED-TTL:P3D
REFRESH-INTERVAL:P3D
CALSCALE:GREGORIAN
BEGIN:VEVENT
DTSTART:20250508T140000Z
DTEND:20250508T153000Z
X-MICROSOFT-CDO-ALLDAYEVENT:FALSE
SUMMARY:From Likes to Leads: Leveraging Social Media for Your Business
DESCRIPTION:Navigating social media as a small business owner can feel like a daunting task   where to start\, how to engage\, and how to see meaningful results\, all while juggling limited time and resources. But with the right approach\, social media can become a powerful tool for business growth.\n\n\n\nIn this session\, we'll provide you with a clear and actionable roadmap for success on social media. You'll discover strategies that save time and yield real results\, helping you effectively grow your business.\n\n\n\nYou'll learn:\n\n\n\nHow to identify the right social networks for your business\n\nThe 15-minute social media plan to streamline your efforts\n\nTips for breaking into the pay-to-play world of social media advertising\n\nHow social media and email marketing work hand-in-hand for greater impact
X-ALT-DESC;FMTTYPE=text/html:Navigating social media as a small business owner can feel like a daunting task &mdash\; where to start\, how to engage\, and how to see meaningful results\, all while juggling limited time and resources. But with the right approach\, social media can become a powerful tool for business growth.<br />\n<br />\nIn this session\, we&rsquo\;ll provide you with a clear and actionable roadmap for success on social media. You&rsquo\;ll discover strategies that save time and yield real results\, helping you effectively grow your business.<br />\n<br />\nYou&rsquo\;ll learn:<br />\n<br />\nHow to identify the right social networks for your business<br />\nThe 15-minute social media plan to streamline your efforts<br />\nTips for breaking into the pay-to-play world of social media advertising<br />\nHow social media and email marketing work hand-in-hand for greater impact<br />\n<br />\n&nbsp\;
LOCATION:Online
UID:e.3485.15013
SEQUENCE:3
DTSTAMP:20260422T150558Z
URL:https://www.mountdora.com/events/details/from-likes-to-leads-leveraging-social-media-for-your-business-15013
END:VEVENT

END:VCALENDAR
