BEGIN:VCALENDAR
VERSION:2.0
PRODID:-//ChamberMaster//Event Calendar 2.0//EN
METHOD:PUBLISH
X-PUBLISHED-TTL:P3D
REFRESH-INTERVAL:P3D
CALSCALE:GREGORIAN
BEGIN:VEVENT
DTSTART:20250611T230000Z
DTEND:20250612T010000Z
X-MICROSOFT-CDO-ALLDAYEVENT:FALSE
SUMMARY:Franchises - An Easier Way to Becoming Your Own Boss
DESCRIPTION:Owning a franchise is one way to become an entrepreneur. A franchisor provides the planning\, brand name and promotional support the franchisee needs to get started. Attend this workshop to see if a franchise is right for you.\n\n\n\n\n\n\n\n\n\nHave you always wanted to be your own boss but didn't quite know how to get started?\n\n\n\nWould you like to take control of your future and live a more flexible lifestyle?\n\n\n\nDo you want to build equity and wealth for your future?\n\n\n\n\n\n\n\n\n\nIf you've answered "yes" to one or more of the above questions\, this workshop may be right for you! Join us for an interactive workshop\, including:\n\n\n\n  Understand what it takes to be a franchise business owner\n\n\n\n  Learn about the advantages of becoming your own boss\n\n\n\n  How to find the right franchise\n\n\n\nAnd many other topics
X-ALT-DESC;FMTTYPE=text/html:Owning a franchise is one way to become an entrepreneur. A franchisor provides the planning\, brand name and promotional support the franchisee needs to get started. Attend this workshop to see if a franchise is right for you.<br />\n<br />\n<br />\n<br />\n<br />\nHave you always wanted to be your own boss but didn&#39\;t quite know how to get started?<br />\n<br />\nWould you like to take control of your future and live a more flexible lifestyle?<br />\n<br />\nDo you want to build equity and wealth for your future?<br />\n<br />\n<br />\n<br />\n<br />\nIf you&#39\;ve answered &quot\;yes&quot\; to one or more of the above questions\, this workshop may be right for you! Join us for an interactive workshop\, including:<br />\n<br />\n&gt\; Understand what it takes to be a franchise business owner<br />\n<br />\n&gt\; Learn about the advantages of becoming your own boss<br />\n<br />\n&gt\; How to find the right franchise<br />\n<br />\nAnd many other topics
LOCATION:Online Event
UID:e.3485.18289
SEQUENCE:3
DTSTAMP:20260422T134548Z
URL:https://www.mountdora.com/events/details/franchises-an-easier-way-to-becoming-your-own-boss-06-11-2025-18289
END:VEVENT

END:VCALENDAR
