BEGIN:VCALENDAR
VERSION:2.0
PRODID:-//ChamberMaster//Event Calendar 2.0//EN
METHOD:PUBLISH
X-PUBLISHED-TTL:P3D
REFRESH-INTERVAL:P3D
CALSCALE:GREGORIAN
BEGIN:VEVENT
DTSTART:20241114T223000Z
DTEND:20241114T230000Z
X-MICROSOFT-CDO-ALLDAYEVENT:FALSE
SUMMARY:Forage & Cultivate Plant Boutique - RIBBON CUTTING
DESCRIPTION:The Mount Dora Chamber will be cutting the ribbon to celebrate the Re-opening of Forage & Cultivate's Plant Boutique at their new location!!!\n\n\n\nAny purchases made during the event will be given a 15% discount.\n\n\n\nLight snacks\, deserts\, and wine will be available...  We will actually be making the hors d'oeuvres and desserts themselves.
X-ALT-DESC;FMTTYPE=text/html:The Mount Dora Chamber will be cutting the ribbon to celebrate the Re-opening of <a href="https://www.mountdora.com/events/details/forage-cultivate-plant-boutique-ribbon-cutting-13226">Forage &amp\; Cultivate&#39\;s Plant Boutique</a> at their new location!!!<br />\n<br />\nAny purchases made during the event will be given a <strong>15% discount</strong>.<br />\n<br />\nLight snacks\, deserts\, and wine will be available...&nbsp\; We will actually be making the hors d&#39\;oeuvres and desserts themselves.
LOCATION:109 E. 4th Ave. Mount Dora\, Florida 32757
UID:e.3485.13226
SEQUENCE:3
DTSTAMP:20260423T011816Z
URL:https://www.mountdora.com/events/details/forage-cultivate-plant-boutique-ribbon-cutting-13226
END:VEVENT

END:VCALENDAR
