BEGIN:VCALENDAR
VERSION:2.0
PRODID:-//ChamberMaster//Event Calendar 2.0//EN
METHOD:PUBLISH
X-PUBLISHED-TTL:P3D
REFRESH-INTERVAL:P3D
CALSCALE:GREGORIAN
BEGIN:VEVENT
DTSTART:20251005T130000Z
DTEND:20251005T150000Z
X-MICROSOFT-CDO-ALLDAYEVENT:FALSE
SUMMARY:First Presbyterian Mount Dora: World Communion Day
DESCRIPTION:First Presbyterian Mount Dora celebrates World Communion at a 9:00 casual caf -style service and at 11:00 traditional service. The world communion service promotes Christian unity and celebrates the worldwide Christian community connection with all brothers and sisters in Christ and examines our relationship to the global church when partaking in Holy Communion. Please join us for this special Communion service.
X-ALT-DESC;FMTTYPE=text/html:First Presbyterian Mount Dora celebrates World Communion at a 9:00 casual caf&eacute\;-style service and at 11:00 traditional service. The world communion service promotes Christian unity and celebrates the worldwide Christian community connection with all brothers and sisters in Christ and examines our relationship to the global church when partaking in Holy Communion. Please join us for this special Communion service.
LOCATION:First Presbyterian Church Mount Dora 222 W 6th Ave. (Historic Downtown between Alexander and McDonald) Mount Dora\, FL 32726.
UID:e.3485.19675
SEQUENCE:3
DTSTAMP:20260422T120005Z
URL:https://www.mountdora.com/events/details/first-presbyterian-mount-dora-world-communion-day-19675
END:VEVENT

END:VCALENDAR
