BEGIN:VCALENDAR
VERSION:2.0
PRODID:-//ChamberMaster//Event Calendar 2.0//EN
METHOD:PUBLISH
X-PUBLISHED-TTL:P3D
REFRESH-INTERVAL:P3D
CALSCALE:GREGORIAN
BEGIN:VEVENT
DTSTART:20250916T140000Z
DTEND:20250916T153000Z
X-MICROSOFT-CDO-ALLDAYEVENT:FALSE
SUMMARY:Filling Your Sales Pipeline: How to Find and Meet Your Ideal Clients
DESCRIPTION:Is your sales pipeline running dry? Learn proven techniques to identify your ideal clients\, build a robust prospecting process\, and consistently fill your pipeline with high-quality leads. This session will give you the tools to create steady business growth.
X-ALT-DESC;FMTTYPE=text/html:Is your sales pipeline running dry? Learn proven techniques to identify your ideal clients\, build a robust prospecting process\, and consistently fill your pipeline with high-quality leads. This session will give you the tools to create steady business growth.
LOCATION:Online Event
UID:e.3485.19547
SEQUENCE:3
DTSTAMP:20260422T092000Z
URL:https://www.mountdora.com/events/details/filling-your-sales-pipeline-how-to-find-and-meet-your-ideal-clients-09-16-2025-19547
END:VEVENT

END:VCALENDAR
