BEGIN:VCALENDAR
VERSION:2.0
PRODID:-//ChamberMaster//Event Calendar 2.0//EN
METHOD:PUBLISH
X-PUBLISHED-TTL:P3D
REFRESH-INTERVAL:P3D
CALSCALE:GREGORIAN
BEGIN:VEVENT
DTSTART:20260311T150000Z
DTEND:20260311T170000Z
X-MICROSOFT-CDO-ALLDAYEVENT:FALSE
SUMMARY:FIFTH THIRD BANK NETWORKING & RIBBON CUTTING EVENT
DESCRIPTION:Please join us as we celebrate the opening of our first Mount Dora branch!\n\nWe're excited to be a part of the Mount Dora community and invite you to celebrate with us during our official ribbon-cutting and networking event.\n\nCome connect\, meet our team\, and help us kick off this exciting new chapter!
X-ALT-DESC;FMTTYPE=text/html:<div><strong>Please join us as we celebrate the opening of our first Mount Dora branch!</strong><br />\nWe&rsquo\;re excited to be a part of the Mount Dora community and invite you to celebrate with us during our official ribbon-cutting and networking event.<br />\nCome connect\, meet our team\, and help us kick off this exciting new chapter!</div>\n
LOCATION:19160 US HWY 441 Mount Dora FL 32757
UID:e.3485.21829
SEQUENCE:3
DTSTAMP:20260421T211607Z
URL:https://www.mountdora.com/events/details/fifth-third-bank-networking-ribbon-cutting-event-21829
END:VEVENT

END:VCALENDAR
